BEGIN:VCALENDAR
VERSION:2.0
PRODID:-//eventon.com NONSGML v1.0//EN
CALSCALE:GREGORIAN
METHOD:PUBLISH
BEGIN:VEVENT
UID:69e7374f43cea
DTSTAMP:20260421T083735Z
DTSTART:20241003T150000Z
DTEND:20241003T170000Z
LOCATION:
SUMMARY:Online-Ausbildung DuftCoaching
DESCRIPTION:💖🌸 In dem Online-Lehrgang „DuftCoaching“ lernst Du wi
 rksame Coachingtools in Verbindung mit ätherischen Öle kennen\,  die D
 ich in Deiner Arbeit mit Klienten unterstützen. Die Düfte bringen Leich
 tigkeit und Tiefe in jede Art von Entwicklungsprozessen. Die Ausbildung is
 t sehr praxisorientiert und setzt die Bereitschaft zum Üben und das Ei
 nlassen auf die eigene persönliche Entwicklung voraus. Start: 03. Oktobe
 r 2024\,  13 Termine\,  jeweils 17[..]\nhttps://seelenduft.at/events/online
 -ausbildung-duftcoaching/
URL:https://seelenduft.at/events/online-ausbildung-duftcoaching/
END:VEVENT
END:VCALENDAR